BEGIN:VCALENDAR
VERSION:2.0
PRODID:-//G1-Cyclo-Tour - ECPv6.2.3.2//NONSGML v1.0//EN
CALSCALE:GREGORIAN
METHOD:PUBLISH
X-WR-CALNAME:G1-Cyclo-Tour
X-ORIGINAL-URL:https://g1-cyclo-tour.fr
X-WR-CALDESC:Events for G1-Cyclo-Tour
REFRESH-INTERVAL;VALUE=DURATION:PT1H
X-Robots-Tag:noindex
X-PUBLISHED-TTL:PT1H
BEGIN:VTIMEZONE
TZID:Europe/Paris
BEGIN:DAYLIGHT
TZOFFSETFROM:+0100
TZOFFSETTO:+0200
TZNAME:CEST
DTSTART:20240331T010000
END:DAYLIGHT
BEGIN:STANDARD
TZOFFSETFROM:+0200
TZOFFSETTO:+0100
TZNAME:CET
DTSTART:20241027T010000
END:STANDARD
END:VTIMEZONE
BEGIN:VEVENT
DTSTART;VALUE=DATE:20240422
DTEND;VALUE=DATE:20240423
DTSTAMP:20260423T042305
CREATED:20230802T150120Z
LAST-MODIFIED:20231004T084155Z
UID:344-1713744000-1713830399@g1-cyclo-tour.fr
SUMMARY:étape 2/116 : Eupen - Montenau
DESCRIPTION:vendredi 22 mars\ndépart : Eupen\narrivée Montenau pour le bivouac du soir.\nTrajet de la journée de 37 kms\n 
URL:https://g1-cyclo-tour.fr/event/2-116eupen-montenau/
CATEGORIES:Belgique
ATTACH;FMTTYPE=image/jpeg:https://g1-cyclo-tour.fr/wp-content/uploads/2023/08/eupen.jpg
ORGANIZER;CN="Claire Gason":MAILTO:mail orga étape1
END:VEVENT
END:VCALENDAR